BEGIN:VCALENDAR
VERSION:2.0
PRODID:-//ARRAY CREW - ECPv6.8.3//NONSGML v1.0//EN
CALSCALE:GREGORIAN
METHOD:PUBLISH
X-WR-CALNAME:ARRAY CREW
X-ORIGINAL-URL:https://arraycrew.com
X-WR-CALDESC:Events for ARRAY CREW
REFRESH-INTERVAL;VALUE=DURATION:PT1H
X-Robots-Tag:noindex
X-PUBLISHED-TTL:PT1H
BEGIN:VTIMEZONE
TZID:America/Chicago
BEGIN:DAYLIGHT
TZOFFSETFROM:-0600
TZOFFSETTO:-0500
TZNAME:CDT
DTSTART:20230312T080000
END:DAYLIGHT
BEGIN:STANDARD
TZOFFSETFROM:-0500
TZOFFSETTO:-0600
TZNAME:CST
DTSTART:20231105T070000
END:STANDARD
TZID:America/New_York
BEGIN:DAYLIGHT
TZOFFSETFROM:-0500
TZOFFSETTO:-0400
TZNAME:EDT
DTSTART:20220313T070000
END:DAYLIGHT
BEGIN:STANDARD
TZOFFSETFROM:-0400
TZOFFSETTO:-0500
TZNAME:EST
DTSTART:20221106T060000
END:STANDARD
BEGIN:DAYLIGHT
TZOFFSETFROM:-0500
TZOFFSETTO:-0400
TZNAME:EDT
DTSTART:20230312T070000
END:DAYLIGHT
BEGIN:STANDARD
TZOFFSETFROM:-0400
TZOFFSETTO:-0500
TZNAME:EST
DTSTART:20231105T060000
END:STANDARD
END:VTIMEZONE
BEGIN:VEVENT
DTSTART;TZID=America/Chicago:20230218T090000
DTEND;TZID=America/Chicago:20230218T150000
DTSTAMP:20260419T064633
CREATED:20230206T151521Z
LAST-MODIFIED:20230206T151726Z
UID:19729-1676710800-1676732400@arraycrew.com
SUMMARY:Film North - IPHONE PHOTOGRAPHY – SHOOTING & COMPOSITION
DESCRIPTION:From Film North – In this beginning-level workshop\, you’ll learn tips and tricks for taking better photos with your iPhone\, and how to make images that are effective\, meaningful\, and beautiful. This in-person course is held at FilmNorth\, 550 Vandalia Street\, Suite 120\, Saint Paul\, MN \n			\n				\n				\n				\n				\n				NOTE: this in-person course is held at FilmNorth \n550 Vandalia Street\, Suite 120\,Saint Paul\, MN 55114\n			\n				LEARN MORE
URL:https://arraycrew.com/event/film-north-iphone-photography-shooting-composition/
ATTACH;FMTTYPE=image/jpeg:https://arraycrew.com/wp-content/uploads/2023/02/FilmNorth-Event.jpg
END:VEVENT
BEGIN:VEVENT
DTSTART;TZID=America/Chicago:20230217T183000
DTEND;TZID=America/Chicago:20230218T170000
DTSTAMP:20260419T064633
CREATED:20230206T151146Z
LAST-MODIFIED:20230206T151419Z
UID:19726-1676658600-1676739600@arraycrew.com
SUMMARY:Film North - Advanced Directing
DESCRIPTION:From Film North – From blocking to collaboration\, visual storytelling\, working with actors\, unions\, and strengthening one’s voice\, this workshop will prepare each student to tackle any directing situation – whether it’s your first short or a studio feature. 2 sessions: Friday\, February 17\, 6:30-9pm CST [Virtual] & Saturday\, February 18\, 10am-5pm CST [In-person] The Friday evening session meets virtually on Zoom. The meeting link will be emailed to students a few days prior. The Saturday session meets in-person at FilmNorth\, 550 Vandalia Street\, Suite 120\, Saint Paul\, MN 55114.  \n			\n				\n				\n				\n				\n				NOTE: this in-person course is held at FilmNorth \n550 Vandalia Street\, Suite 120\,Saint Paul\, MN 55114\n			\n				LEARN MORE
URL:https://arraycrew.com/event/film-north-advanced-directing/
ATTACH;FMTTYPE=image/jpeg:https://arraycrew.com/wp-content/uploads/2023/02/FilmNorth-Event.jpg
END:VEVENT
BEGIN:VEVENT
DTSTART;TZID=America/New_York:20230211T170000
DTEND;TZID=America/New_York:20230211T180000
DTSTAMP:20260419T064633
CREATED:20230206T143403Z
LAST-MODIFIED:20230206T143824Z
UID:19708-1676134800-1676138400@arraycrew.com
SUMMARY:Disability Inclusion in Entertainment: Beyond the Pipeline
DESCRIPTION:BRIC Foundation and RespectAbility present: “Disability Inclusion in Entertainment: Beyond the Pipeline\,” a conversation about breaking into the entertainment industry and building community as creative professionals with disabilit(ies). \nPanelists will discuss navigating the Entertainment industry\, why their voices are important\, and details of the Entertainment Labs and other leadership programs that RespectAbility has to offer. \nFeb 11\, 2023 05:00 PM in Eastern Time (US and Canada) \n			\n				LEARN MORE
URL:https://arraycrew.com/event/disability-inclusion-in-entertainment-beyond-the-pipeline/
ATTACH;FMTTYPE=image/jpeg:https://arraycrew.com/wp-content/uploads/2023/02/RespectAbility-Event.jpg
END:VEVENT
BEGIN:VEVENT
DTSTART;TZID=America/Chicago:20230211T100000
DTEND;TZID=America/Chicago:20230211T150000
DTSTAMP:20260419T064633
CREATED:20230206T150358Z
LAST-MODIFIED:20230206T150848Z
UID:19721-1676109600-1676127600@arraycrew.com
SUMMARY:Film North - Getting the Best Interview for Your Documentary
DESCRIPTION:In-person. 1 session: Saturday\, February 11\, 10am-3pm CST \nThe interview is at the core of most documentary projects and getting it right can make or break your project. This workshop will focus on the procedural elements that can help you to get the most out of your subject and the technical elements that will make it look and sound professional. We’ll discuss who to interview and how to get that interview\, how to structure your questions for different situations and effect\, how to support and direct your subject\, and how to get what you need for the cutting room. A hands-on technical session in the afternoon will include options regarding where and how to stage an interview\, including composition\, lighting\, and sound. There is a lunch break. \n			\n				\n				\n				\n				\n				NOTE: this in-person course is held at FilmNorth \n550 Vandalia Street\, Suite 120\,Saint Paul\, MN 55114\n			\n				LEARN MORE
URL:https://arraycrew.com/event/film-north-getting-the-best-interview-for-your-documentary/
ATTACH;FMTTYPE=image/jpeg:https://arraycrew.com/wp-content/uploads/2023/02/FilmNorth-Event.jpg
END:VEVENT
BEGIN:VEVENT
DTSTART;TZID=America/Chicago:20230211T090000
DTEND;TZID=America/Chicago:20230212T120000
DTSTAMP:20260419T064633
CREATED:20230206T150121Z
LAST-MODIFIED:20230323T213753Z
UID:19719-1676106000-1676203200@arraycrew.com
SUMMARY:Film North - COLLAGE ANIMATION WITH ADOBE AFTER EFFECTS [VIRTUAL]
DESCRIPTION:From Film North – learn tools and techniques to animate with mixed media in Adobe After Effects! The class will explore masks\, keying\, puppet tools\, 2.5D sets\, effects and animation presets\, and more. You’ll try out a wide variety of techniques to bring your found media and photographs to life in After Effects. Students need a computer with Adobe After Effects CC installed. The workshop is open to all levels. 2 sessions: Saturday-Sunday\, February 11-12\, 9am-12pm CST \n			\n				LEARN MORE
URL:https://arraycrew.com/event/film-north-collage-animation-with-adobe-after-effects-virtual/
ATTACH;FMTTYPE=image/jpeg:https://arraycrew.com/wp-content/uploads/2023/02/FilmNorth-Event.jpg
END:VEVENT
BEGIN:VEVENT
DTSTART;TZID=America/Chicago:20230208T150000
DTEND;TZID=America/Chicago:20230208T160000
DTSTAMP:20260419T064633
CREATED:20230206T154330Z
LAST-MODIFIED:20230206T155026Z
UID:19749-1675868400-1675872000@arraycrew.com
SUMMARY:INFO SESSION: WBD Access x Canadian Academy Directors Program
DESCRIPTION:The WBD Access x Canadian Academy Directors Program is a talent roster initiative focused on experienced Canadian directors from underrepresented communities. The program will support a maximum of 8 individuals seeking to advance their careers in episodic television through on-set placement. Participants will gain unprecedented connections to and industry knowledge from WBD executives and creators. \nThis program is a multi-year initiative supported by Warner Bros. Discovery and administered by the Academy of Canadian Cinema & Television. \n			\n				LEARN MORE
URL:https://arraycrew.com/event/info-session-wbd-access-x-canadian-academy-directors-program/
ATTACH;FMTTYPE=image/jpeg:https://arraycrew.com/wp-content/uploads/2023/02/DirectorsProgram-Event.jpg
END:VEVENT
BEGIN:VEVENT
DTSTART;VALUE=DATE:20230203
DTEND;VALUE=DATE:20230211
DTSTAMP:20260419T064633
CREATED:20230206T144516Z
LAST-MODIFIED:20230206T144707Z
UID:19713-1675382400-1676073599@arraycrew.com
SUMMARY:Bunim/Murray Productions Casting Call for Individuals with Intellectual and Developmental Disabilities
DESCRIPTION:Bunim/Murray Productions (the company behind A&E’s Born this Way\, Peacock’s Born for Business and the documentary Autism: The Musical) is producing a docu-series for a major streamer which will follow people with intellectual and developmental disabilities as they plan\, shoot and edit a short film. We’re looking primarily for directors\, producers\, art directors\, costume designers\, 1st ADs\, and actors. NO EXPERIENCE REQUIRED. \n			\n				\n				\n				\n				\n				Deadline to apply: \nFebruary 10\, 2023\n			\n				EMAIL CAITLYN AUDET
URL:https://arraycrew.com/event/bunim-murray-productions-casting-call-for-individuals-with-intellectual-and-developmental-disabilities/
ATTACH;FMTTYPE=image/jpeg:https://arraycrew.com/wp-content/uploads/2021/08/Women-In-Film-Event.jpg
END:VEVENT
BEGIN:VEVENT
DTSTART;VALUE=DATE:20230125
DTEND;VALUE=DATE:20230216
DTSTAMP:20260419T064633
CREATED:20230125T113106Z
LAST-MODIFIED:20230125T113411Z
UID:19400-1674604800-1676505599@arraycrew.com
SUMMARY:Sundance Labs
DESCRIPTION:The Sundance Institute Producers Track Labs support emerging independent producers with a work-in-progress feature film. The opportunities are designed to hone emerging producers’ creative instincts and evolve their communication and problem-solving skills at all stages of their next feature film project. Applications are now open for the Film Producers Track\, Documentary Producers Track and Documentary Edit and Story Labs.  \n			\n				\n				\n				\n				\n				Deadline to apply (Feature Film Producers Track): \nWednesday\, February 15\, 2023\n			\n				\n				\n				\n				\n				Deadline to apply (Documentary Film Producers Track): \nWednesday\, February 15\, 2023\n			\n				LEARN MORE
URL:https://arraycrew.com/event/sundance-labs-2023/
ATTACH;FMTTYPE=image/jpeg:https://arraycrew.com/wp-content/uploads/2023/01/SUNDANCE-Event.jpg
END:VEVENT
BEGIN:VEVENT
DTSTART;VALUE=DATE:20230125
DTEND;VALUE=DATE:20230215
DTSTAMP:20260419T064633
CREATED:20210809T144620Z
LAST-MODIFIED:20230125T105921Z
UID:15435-1674604800-1676419199@arraycrew.com
SUMMARY:Women In Film Fellowships
DESCRIPTION:Applications are now open for the Producer\, Business\, or Artisan & Crew Women In Film Fellowships. Each fellowship will meet within their cohorts for a year of master classes\, networking\, and community building. Fellows will also receive mentoring from a professional with extensive experience in their field\, either in groups or individually (depending on Mentor availability). Fellows are expected to have at least six sessions with their mentor(s) within a 12-month period.  \nREQUIREMENTS\n\nYou must be local to Los Angeles in order to participate.\nYou must have a clear career focus that you can articulate in your application.\n\n			\n				\n				\n				\n				\n				Deadline to apply for all WIF Fellowships: \nMonday\, February 13\, 2023\n			\n				LEARN MORE
URL:https://arraycrew.com/event/women-in-film-fellowships-2023/
ATTACH;FMTTYPE=image/jpeg:https://arraycrew.com/wp-content/uploads/2021/08/Women-In-Film-Event.jpg
END:VEVENT
BEGIN:VEVENT
DTSTART;VALUE=DATE:20230125
DTEND;VALUE=DATE:20230207
DTSTAMP:20260419T064633
CREATED:20230125T095454Z
LAST-MODIFIED:20230125T105916Z
UID:19381-1674604800-1675727999@arraycrew.com
SUMMARY:Commercial Directors Diversity Program (CDDP)
DESCRIPTION:The CDDP – Commercial Directors Diversity Program is a 6-month program consisting of workshops\, mentorships\, networking\, shadowing\, a 15k grant to make a spec commercial\, and an industry showcase to share the work. The program is facilitated in 3 phases: \n\nPhase 1 – Workshops\, Mentoring\, Networking\nPhase 2 – Shadowing\, Mentoring\, Creating Spec Commercials\nPhase 3 – Mentoring\, Networking\, Industry Showcase Premiere\n\n			\n				\n				\n				\n				\n				Application Deadline: \nMonday\, February 6\, 2023\n			\n				LEARN MORE
URL:https://arraycrew.com/event/commercial-directors-diversity-program-cddp-2023/
ATTACH;FMTTYPE=image/jpeg:https://arraycrew.com/wp-content/uploads/2023/01/CDDP-Event.jpg
END:VEVENT
BEGIN:VEVENT
DTSTART;VALUE=DATE:20230119
DTEND;VALUE=DATE:20230221
DTSTAMP:20260419T064633
CREATED:20230125T105200Z
LAST-MODIFIED:20230125T110724Z
UID:19384-1674086400-1676937599@arraycrew.com
SUMMARY:Veterans Writing Project
DESCRIPTION:From The Writers Guild Foundation\, the application window for the 2023-24 Veterans Writing Project opens on Thursday\, January 19 and closes on Monday\, February 20.\nFor more information on the admissions process and submission requirements\, please review their application guidelines. \n			\n				\n				\n				\n				\n				Deadline to apply: \n Monday\, February 20\, 2023\n			\n				APPLY
URL:https://arraycrew.com/event/veterans-writing-project-2023/
ATTACH;FMTTYPE=image/jpeg:https://arraycrew.com/wp-content/uploads/2023/01/Veterans-Writing-Project-Event.jpg
END:VEVENT
BEGIN:VEVENT
DTSTART;VALUE=DATE:20221212
DTEND;VALUE=DATE:20230214
DTSTAMP:20260419T064633
CREATED:20230206T144232Z
LAST-MODIFIED:20230208T194652Z
UID:19710-1670803200-1676332799@arraycrew.com
SUMMARY:Women In Film Financing Intensive
DESCRIPTION:The annual WIF and Sundance Institute Financing Intensive is designed to help producers—fiction and documentary—build the skills and relationships necessary to advance a front-burner project to the next stage of financing success. Over two days\, producers and their attached directors participate in small group workshops focused on both pitching and financing strategy\, professional skills development\, and one-on-one meetings with potential financiers and partners. \n			\n				\n				\n				\n				\n				Deadline to apply: \nFebruary 13\, 2023\n			\n				LEARN MORE
URL:https://arraycrew.com/event/women-in-film-financing-intensive/
ATTACH;FMTTYPE=image/jpeg:https://arraycrew.com/wp-content/uploads/2021/08/Women-In-Film-Event.jpg
END:VEVENT
BEGIN:VEVENT
DTSTART;VALUE=DATE:20221107
DTEND;VALUE=DATE:20230208
DTSTAMP:20260419T064633
CREATED:20230125T110245Z
LAST-MODIFIED:20230125T111846Z
UID:19392-1667779200-1675814399@arraycrew.com
SUMMARY:AT&T Untold Stories
DESCRIPTION:From the TriBeCa Film Festival and AT&T\, Untold Stories is a multi-year\, multi-tier alliance between AT&T and Tribeca Festival that awards $1 million dollars\, mentorship\, and comprehensive support to systemically underrepresented filmmakers to produce their films.  At the 2023 Tribeca Festival\, 5 new talented and diverse filmmaking teams will pitch their original feature scripted film projects to a Greenlight Committee of industry professionals to decide who will receive a $1 million dollar prize.. \nThe winning film will be guaranteed a premiere at the 2024 Tribeca Festival\, subject to timely delivery of the film\, and dedicated distribution support. The additional 4 teams will receive a $10\,000 grant for development support. \n			\n				\n				\n				\n				\n				Deadline to apply: \nTuesday\, February 7\, 2023\n			\n				LEARN MORE
URL:https://arraycrew.com/event/att-untold-stories-2023/
ATTACH;FMTTYPE=image/jpeg:https://arraycrew.com/wp-content/uploads/2023/01/UNTOLD-STORIES-Event.jpg
END:VEVENT
BEGIN:VEVENT
DTSTART;VALUE=DATE:20221001
DTEND;VALUE=DATE:20230216
DTSTAMP:20260419T064633
CREATED:20230125T121439Z
LAST-MODIFIED:20230125T122130Z
UID:19424-1664582400-1676505599@arraycrew.com
SUMMARY:2023 Annecy Film Festival - VR Project Submission Deadline
DESCRIPTION:Every year\, Annecy inspires and rocks the world to the rhythm of animation by highlighting the creative dynamism and richness this sector represents. From exclusive presentations of the latest animated works to demonstrations of the latest and future trends\, via meetings with seasoned directors and emerging talents\, the Annecy International Animation Festival is an exciting celebration in an exceptional setting. Review the details for submitting animated films and projects to the 2023 Annecy Animation Film Festival. \n			\n				\n				\n				\n				\n				Deadline to apply: \nWednesday\, February 15\, 2023\n			\n				LEARN MORE
URL:https://arraycrew.com/event/2023-annecy-film-festival-vr-project-submission-deadline/
ATTACH;FMTTYPE=image/jpeg:https://arraycrew.com/wp-content/uploads/2023/01/ANNECY-VR.jpg
END:VEVENT
BEGIN:VEVENT
DTSTART;VALUE=DATE:20221001
DTEND;VALUE=DATE:20230216
DTSTAMP:20260419T064633
CREATED:20230125T121101Z
LAST-MODIFIED:20230125T121303Z
UID:19423-1664582400-1676505599@arraycrew.com
SUMMARY:2023 Annecy Film Festival - Feature Film Submission Deadline
DESCRIPTION:Every year\, Annecy inspires and rocks the world to the rhythm of animation by highlighting the creative dynamism and richness this sector represents. From exclusive presentations of the latest animated works to demonstrations of the latest and future trends\, via meetings with seasoned directors and emerging talents\, the Annecy International Animation Festival is an exciting celebration in an exceptional setting. Review the details for submitting animated films and projects to the 2023 Annecy Animation Film Festival. \n			\n				\n				\n				\n				\n				Deadline to apply: \nWednesday\, February 15\, 2023\n			\n				LEARN MORE
URL:https://arraycrew.com/event/2023-annecy-film-festival-feature-film-submission-deadline/
ATTACH;FMTTYPE=image/jpeg:https://arraycrew.com/wp-content/uploads/2023/01/ANNECY-FeatureFilm.jpg
END:VEVENT
BEGIN:VEVENT
DTSTART;VALUE=DATE:20221001
DTEND;VALUE=DATE:20230216
DTSTAMP:20260419T064633
CREATED:20230125T121033Z
LAST-MODIFIED:20230125T121033Z
UID:19422-1664582400-1676505599@arraycrew.com
SUMMARY:2023 Annecy Film Festival - Commissioned Film Submission Deadline
DESCRIPTION:Every year\, Annecy inspires and rocks the world to the rhythm of animation by highlighting the creative dynamism and richness this sector represents. From exclusive presentations of the latest animated works to demonstrations of the latest and future trends\, via meetings with seasoned directors and emerging talents\, the Annecy International Animation Festival is an exciting celebration in an exceptional setting. Review the details for submitting animated films and projects to the 2023 Annecy Animation Film Festival. \n			\n				\n				\n				\n				\n				Deadline to apply: \nWednesday\, February 15\, 2023\n			\n				LEARN MORE
URL:https://arraycrew.com/event/2023-annecy-film-festival-commissioned-film-submission-deadline/
ATTACH;FMTTYPE=image/jpeg:https://arraycrew.com/wp-content/uploads/2023/01/ANNECY-CommissionedFilm.jpg
END:VEVENT
BEGIN:VEVENT
DTSTART;VALUE=DATE:20221001
DTEND;VALUE=DATE:20230216
DTSTAMP:20260419T064633
CREATED:20230125T120839Z
LAST-MODIFIED:20230125T121138Z
UID:19421-1664582400-1676505599@arraycrew.com
SUMMARY:2023 Annecy Film Festival - TV Film Submission Deadline
DESCRIPTION:Every year\, Annecy inspires and rocks the world to the rhythm of animation by highlighting the creative dynamism and richness this sector represents. From exclusive presentations of the latest animated works to demonstrations of the latest and future trends\, via meetings with seasoned directors and emerging talents\, the Annecy International Animation Festival is an exciting celebration in an exceptional setting. Review the details for submitting animated films and projects to the 2023 Annecy Animation Film Festival. \n			\n				\n				\n				\n				\n				Deadline to apply: \nWednesday\, February 15\, 2023\n			\n				LEARN MORE
URL:https://arraycrew.com/event/2023-annecy-film-festival-tv-film-submission-deadline/
ATTACH;FMTTYPE=image/jpeg:https://arraycrew.com/wp-content/uploads/2023/01/ANNECY-TVfilm.jpg
END:VEVENT
BEGIN:VEVENT
DTSTART;VALUE=DATE:20221001
DTEND;VALUE=DATE:20230216
DTSTAMP:20260419T064633
CREATED:20230125T120605Z
LAST-MODIFIED:20230125T121147Z
UID:19420-1664582400-1676505599@arraycrew.com
SUMMARY:2023 Annecy Film Festival - Student Film Submission Deadline
DESCRIPTION:Every year\, Annecy inspires and rocks the world to the rhythm of animation by highlighting the creative dynamism and richness this sector represents. From exclusive presentations of the latest animated works to demonstrations of the latest and future trends\, via meetings with seasoned directors and emerging talents\, the Annecy International Animation Festival is an exciting celebration in an exceptional setting. Review the details for submitting animated films and projects to the 2023 Annecy Animation Film Festival. \n			\n				\n				\n				\n				\n				Deadline to apply: \nWednesday\, February 15\, 2023\n			\n				LEARN MORE
URL:https://arraycrew.com/event/2023-annecy-film-festival-student-film-submission-deadline/
ATTACH;FMTTYPE=image/jpeg:https://arraycrew.com/wp-content/uploads/2023/01/ANNECY-Student-Film-Event.jpg
END:VEVENT
BEGIN:VEVENT
DTSTART;VALUE=DATE:20221001
DTEND;VALUE=DATE:20230216
DTSTAMP:20260419T064633
CREATED:20230125T115045Z
LAST-MODIFIED:20230125T120404Z
UID:19410-1664582400-1676505599@arraycrew.com
SUMMARY:2023 Annecy Film Festival - Animated Short Film Submission Deadline
DESCRIPTION:Every year\, Annecy inspires and rocks the world to the rhythm of animation by highlighting the creative dynamism and richness this sector represents. From exclusive presentations of the latest animated works to demonstrations of the latest and future trends\, via meetings with seasoned directors and emerging talents\, the Annecy International Animation Festival is an exciting celebration in an exceptional setting. Review the details for submitting animated films and projects to the 2023 Annecy Animation Film Festival. \n			\n				\n				\n				\n				\n				Deadline to apply: \nWednesday\, February 15\, 2023\n			\n				LEARN MORE
URL:https://arraycrew.com/event/2023-annecy-film-festival-animated-short-film-submission-deadline/
ATTACH;FMTTYPE=image/jpeg:https://arraycrew.com/wp-content/uploads/2023/01/ANNECY-AnimatedShort-Event.jpg
END:VEVENT
END:VCALENDAR